BEGIN:VCALENDAR
VERSION:2.0
PRODID:-//The Arts Society Berlin e. V. - ECPv6.15.20//NONSGML v1.0//EN
CALSCALE:GREGORIAN
METHOD:PUBLISH
X-WR-CALNAME:The Arts Society Berlin e. V.
X-ORIGINAL-URL:https://theartssocietyberlin.com
X-WR-CALDESC:Veranstaltungen für The Arts Society Berlin e. V.
REFRESH-INTERVAL;VALUE=DURATION:PT1H
X-Robots-Tag:noindex
X-PUBLISHED-TTL:PT1H
BEGIN:VTIMEZONE
TZID:Europe/Berlin
BEGIN:DAYLIGHT
TZOFFSETFROM:+0100
TZOFFSETTO:+0200
TZNAME:CEST
DTSTART:20230326T010000
END:DAYLIGHT
BEGIN:STANDARD
TZOFFSETFROM:+0200
TZOFFSETTO:+0100
TZNAME:CET
DTSTART:20231029T010000
END:STANDARD
BEGIN:DAYLIGHT
TZOFFSETFROM:+0100
TZOFFSETTO:+0200
TZNAME:CEST
DTSTART:20240331T010000
END:DAYLIGHT
BEGIN:STANDARD
TZOFFSETFROM:+0200
TZOFFSETTO:+0100
TZNAME:CET
DTSTART:20241027T010000
END:STANDARD
BEGIN:DAYLIGHT
TZOFFSETFROM:+0100
TZOFFSETTO:+0200
TZNAME:CEST
DTSTART:20250330T010000
END:DAYLIGHT
BEGIN:STANDARD
TZOFFSETFROM:+0200
TZOFFSETTO:+0100
TZNAME:CET
DTSTART:20251026T010000
END:STANDARD
END:VTIMEZONE
BEGIN:VEVENT
DTSTART;TZID=Europe/Berlin:20241125T200000
DTEND;TZID=Europe/Berlin:20241125T220000
DTSTAMP:20260421T103604
CREATED:20231211T172928Z
LAST-MODIFIED:20241117T200953Z
UID:36312-1732564800-1732572000@theartssocietyberlin.com
SUMMARY:Cardiff Castle: A Welsh Victorian Camelot
DESCRIPTION:Far from being a ruin\, Cardiff Castle is one of the most remarkable houses in Britain. Dating from the time of the Romans\, centuries of change culminated in the complete transformation undertaken in the 1870s by the Marquess of Bute and his eccentric genius architect William Burges. They created a ‘Feudal extravaganza’ in fifteen highly imaginative interiors\, including an Arab room\, a Pompeian roof garden and rooms with an astrological theme. The lecture examines this wonderful building and the personalities of those involved. \nLecturer: Matthew Williams \nMatthew Williams\, theartssociety.org \nHolds degrees from the Universities of Nottingham and Manchester and is a Fellow of the Society of Antiquaries. A recognised expert on the work of the Victorian designer William Burges\, Matthew was Curator of Cardiff Castle for nearly 30 years. His most recent publication is a major book Cardiff Castle and the Marquesses of Bute\, published in 2019. A long-standing member of The Arts Society\, Matthew has been a programme secretary and a chairman before becoming an accredited lecturer in 2001.
URL:https://theartssocietyberlin.com/event/cardiff-castle-a-welsh-victorian-camelot/
LOCATION:The All Saints Church\, Dahlem and Zoom-Meeting\, Hüttenweg 46\, Berlin\, 14195
CATEGORIES:Lecture-2024
ATTACH;FMTTYPE=image/jpeg:https://theartssocietyberlin.com/wp-content/uploads/2023/12/Cardiff-Castle.jpg
ORGANIZER;CN="The Arts Society Berlin":MAILTO:chair@theartssocietyberlin.com
END:VEVENT
END:VCALENDAR