BEGIN:VCALENDAR
VERSION:2.0
PRODID:-//The Arts Society Berlin e. V. - ECPv6.15.20//NONSGML v1.0//EN
CALSCALE:GREGORIAN
METHOD:PUBLISH
X-WR-CALNAME:The Arts Society Berlin e. V.
X-ORIGINAL-URL:https://theartssocietyberlin.com
X-WR-CALDESC:Veranstaltungen für The Arts Society Berlin e. V.
REFRESH-INTERVAL;VALUE=DURATION:PT1H
X-Robots-Tag:noindex
X-PUBLISHED-TTL:PT1H
BEGIN:VTIMEZONE
TZID:Europe/Berlin
BEGIN:DAYLIGHT
TZOFFSETFROM:+0100
TZOFFSETTO:+0200
TZNAME:CEST
DTSTART:20230326T010000
END:DAYLIGHT
BEGIN:STANDARD
TZOFFSETFROM:+0200
TZOFFSETTO:+0100
TZNAME:CET
DTSTART:20231029T010000
END:STANDARD
BEGIN:DAYLIGHT
TZOFFSETFROM:+0100
TZOFFSETTO:+0200
TZNAME:CEST
DTSTART:20240331T010000
END:DAYLIGHT
BEGIN:STANDARD
TZOFFSETFROM:+0200
TZOFFSETTO:+0100
TZNAME:CET
DTSTART:20241027T010000
END:STANDARD
BEGIN:DAYLIGHT
TZOFFSETFROM:+0100
TZOFFSETTO:+0200
TZNAME:CEST
DTSTART:20250330T010000
END:DAYLIGHT
BEGIN:STANDARD
TZOFFSETFROM:+0200
TZOFFSETTO:+0100
TZNAME:CET
DTSTART:20251026T010000
END:STANDARD
END:VTIMEZONE
BEGIN:VEVENT
DTSTART;TZID=Europe/Berlin:20241028T200000
DTEND;TZID=Europe/Berlin:20241028T220000
DTSTAMP:20260421T113927
CREATED:20231211T162253Z
LAST-MODIFIED:20241002T182815Z
UID:36305-1730145600-1730152800@theartssocietyberlin.com
SUMMARY:Britain versus the Bauhaus: Modern Design in the 1930s
DESCRIPTION:Staatliches Bauhaus was an art school founded under Weimar Republic by the architect Walter Gropius. From 1919 to 1933 its tutors combined crafts and the fine arts in a radical new approach to design education.\nLess well known is the influence of the Bauhaus and other German design schools on design and art education in Britain in this period. As the impact of the economic ‘Slump’ of c.1929-34 hit British manufacturing sales\, many in local and national government took the view that Britain’s struggling industrial base could be improved if moves were made to provide for better design education. This lecture looks at some of the work of the key artists involved in improving British design in this period – including Paul Nash\, Eric Ravilious\, Vanessa Bell\, Duncan Grant and Roger Fry; and at Unit One – formed by Paul Nash in 1933 to promote modern art\, architecture and design. \nLecturer: Julia Musgrave \nJulian Musgrave\, theartssociety.org \nJulia Musgrave got her first degree in Chemical Engineering and went on to become a Chartered Information Systems Engineer and IT project manager. In 2008 she decided that life was too short for just one career and decided to become an art historian.\nShe now has a Graduate Diploma in the History of Art from the Courtauld Institute of Art and an MLitt in ‘Art\, Style and Design: Renaissance to Modernism\, c.1450 – c.1930’ from the University of Glasgow. She gained her PhD at the University of York for her research into the involvement of Roger Fry and the Bloomsbury Group and the social networks of the British art world in the development of the Contemporary Art Society from 1910 to 1939.\nShe teaches Art History at the City Literary Institute (City Lit) and is Co-Director of The London Art Salon.
URL:https://theartssocietyberlin.com/event/britain-versus-the-bauhaus-modern-design-in-1930s/
LOCATION:The All Saints Church\, Dahlem and Zoom-Meeting\, Hüttenweg 46\, Berlin\, 14195
CATEGORIES:Lecture-2024
ATTACH;FMTTYPE=image/jpeg:https://theartssocietyberlin.com/wp-content/uploads/2023/12/Isokon-Building-Hampstead.jpg
ORGANIZER;CN="The Arts Society Berlin":MAILTO:chair@theartssocietyberlin.com
END:VEVENT
END:VCALENDAR